BEGIN:VCALENDAR
VERSION:2.0
PRODID:-//Squarespace Inc/Squarespace 6//v6//EN
BEGIN:VEVENT
UID:5f3c859c1548a0073e192763@squarespace.com
DTSTAMP:20201214T224444Z
DTSTART:20210130T223000Z
DTEND:20210131T020000Z
SUMMARY:Wharerata Long Lunch
GEO:-40.384521;175.615275
LOCATION:Wharerata\, University Ave\, Manawatu-Wanganui\, 4472\, New Zealan
 d
END:VEVENT
END:VCALENDAR
