BEGIN:VCALENDAR
VERSION:2.0
PRODID:-//Squarespace Inc/Squarespace 6//v6//EN
BEGIN:VEVENT
UID:5ff27b30a6a0ae63d625250e@squarespace.com
DTSTAMP:20210104T031711Z
DTSTART:20211014T053000Z
DTEND:20211014T083000Z
SUMMARY:Tony Bish &amp\; Grant Edmonds Wine Dinner
GEO:-40.384521;175.615275
LOCATION:Wharerata\, University Ave\, Manawatu-Wanganui\, 4472\, New Zealan
 d
END:VEVENT
END:VCALENDAR
