BEGIN:VCALENDAR
VERSION:2.0
PRODID:-//Squarespace Inc/Squarespace 6//v6//EN
BEGIN:VEVENT
UID:5f2244816813f426cf9ae580@squarespace.com
DTSTAMP:20200913T014153Z
DTSTART:20201022T053000Z
DTEND:20201022T083000Z
SUMMARY:Stephen Bennett Master of wine &amp\; spanish importer Dinner
END:VEVENT
END:VCALENDAR
