BEGIN:VCALENDAR
VERSION:2.0
PRODID:-//Squarespace Inc/Squarespace 6//v6//EN
BEGIN:VEVENT
UID:5ff27c28289de731b3f4dd51@squarespace.com
DTSTAMP:20210104T031531Z
DTSTART:20210923T063000Z
DTEND:20210923T093000Z
SUMMARY:Spirits Dinner
GEO:-40.384521;175.615275
LOCATION:Wharerata\, University Ave\, Manawatu-Wanganui\, 4472\, New Zealan
 d
END:VEVENT
END:VCALENDAR
