BEGIN:VCALENDAR
VERSION:2.0
PRODID:-//Squarespace Inc/Squarespace 6//v6//EN
BEGIN:VEVENT
UID:5ff2798cb6dc0c1e61f46194@squarespace.com
DTSTAMP:20210104T030637Z
DTSTART:20210527T063000Z
DTEND:20210527T093000Z
SUMMARY:Misha’s Vineyard Wine Dinner
GEO:-40.384521;175.615275
LOCATION:Wharerata\, University Ave\, Manawatu-Wanganui\, 4472\, New Zealan
 d
END:VEVENT
END:VCALENDAR
