BEGIN:VCALENDAR
VERSION:2.0
PRODID:-//Squarespace Inc/Squarespace 6//v6//EN
BEGIN:VEVENT
UID:5f2244816813f426cf9ae586@squarespace.com
DTSTAMP:20201113T010506Z
DTSTART:20201203T053000Z
DTEND:20201203T083000Z
SUMMARY:Greywacke Winery Dinner
END:VEVENT
END:VCALENDAR
