BEGIN:VCALENDAR
VERSION:2.0
PRODID:-//Squarespace Inc/Squarespace 6//v6//EN
BEGIN:VEVENT
UID:5ff27866efa5e06e3c52b68a@squarespace.com
DTSTAMP:20210104T024845Z
DTSTART:20210225T053000Z
DTEND:20210225T083000Z
SUMMARY:Gin Dinner
GEO:-40.384521;175.615275
LOCATION:Wharerata\, University Ave\, Manawatu-Wanganui\, 4472\, New Zealan
 d
END:VEVENT
END:VCALENDAR
