BEGIN:VCALENDAR
VERSION:2.0
PRODID:-//Squarespace Inc/Squarespace 6//v6//EN
BEGIN:VEVENT
UID:5f2244816813f426cf9ae584@squarespace.com
DTSTAMP:20201023T002050Z
DTSTART:20201112T053000Z
DTEND:20201112T083000Z
SUMMARY:Gin Dinner with Kenny Ariaens
END:VEVENT
END:VCALENDAR
