BEGIN:VCALENDAR
VERSION:2.0
PRODID:-//Squarespace Inc/Squarespace 6//v6//EN
BEGIN:VEVENT
UID:5ff27868e293bc1fe28cab2e@squarespace.com
DTSTAMP:20210104T024948Z
DTSTART:20210325T053000Z
DTEND:20210325T083000Z
SUMMARY:Giesen Wines Dinner
GEO:-40.384521;175.615275
LOCATION:Wharerata\, University Ave\, Manawatu-Wanganui\, 4472\, New Zealan
 d
END:VEVENT
END:VCALENDAR
