BEGIN:VCALENDAR
VERSION:2.0
PRODID:-//Squarespace Inc/Squarespace 6//v6//EN
BEGIN:VEVENT
UID:5f2244816813f426cf9ae57e@squarespace.com
DTSTAMP:20200730T042040Z
DTSTART:20200806T063000Z
DTEND:20200806T093000Z
SUMMARY:Wines of New Zealand Dinner
END:VEVENT
END:VCALENDAR
