BEGIN:VCALENDAR
VERSION:2.0
PRODID:-//Squarespace Inc/Squarespace 6//v6//EN
BEGIN:VEVENT
UID:5ff27a4f634c4829a8d0ee8d@squarespace.com
DTSTAMP:20210104T031357Z
DTSTART:20210826T063000Z
DTEND:20210826T093000Z
SUMMARY:Escarpment Vineyard Wine Dinner
GEO:-40.384521;175.615275
LOCATION:Wharerata\, University Ave\, Manawatu-Wanganui\, 4472\, New Zealan
 d
END:VEVENT
END:VCALENDAR
