BEGIN:VCALENDAR
VERSION:2.0
PRODID:-//Squarespace Inc/Squarespace 6//v6//EN
BEGIN:VEVENT
UID:5f2247a4c13b345d2b9457c3@squarespace.com
DTSTAMP:20201113T232403Z
DTSTART:20201215T053000Z
DTEND:20201215T093000Z
SUMMARY:Clearview 'Under the Marquee' Wine Dinner
GEO:-40.384521;175.615275
LOCATION:Wharerata\, University Ave\, Manawatu-Wanganui\, 4472\, New Zealan
 d
END:VEVENT
END:VCALENDAR
