BEGIN:VCALENDAR
VERSION:2.0
PRODID:-//Squarespace Inc/Squarespace 6//v6//EN
BEGIN:VEVENT
UID:5fc43aaef8cdb769c669b0a3@squarespace.com
DTSTAMP:20201130T004146Z
DTSTART:20201209T183000Z
DTEND:20201209T200000Z
SUMMARY:Christmas Big Breakfast Buffet
GEO:-40.384521;175.615275
LOCATION:Wharerata\, University Ave\, Manawatu-Wanganui\, 4472\, New Zealan
 d
END:VEVENT
END:VCALENDAR
