BEGIN:VCALENDAR
VERSION:2.0
PRODID:-//Squarespace Inc/Squarespace 6//v6//EN
BEGIN:VEVENT
UID:5ff27c5c5de1995715ce10fc@squarespace.com
DTSTAMP:20210104T031808Z
DTSTART:20211202T053000Z
DTEND:20211202T084500Z
SUMMARY:Beach House Wines
GEO:-40.384521;175.615275
LOCATION:Wharerata\, University Ave\, Manawatu-Wanganui\, 4472\, New Zealan
 d
END:VEVENT
END:VCALENDAR
